BEGIN:VCALENDAR
VERSION:2.0
PRODID:-//Squarespace Inc/Squarespace 6//v6//EN
BEGIN:VEVENT
UID:5c1b712d352f531e85acf7d4@squarespace.com
DTSTAMP:20191024T041238Z
DTSTART:20191029T220000Z
DTEND:20191101T030000Z
SUMMARY:High School Camp 2019
GEO:-33.653006;150.665591
LOCATION:Lutanda Mount Victoria
END:VEVENT
END:VCALENDAR
