BEGIN:VCALENDAR
VERSION:2.0
PRODID:-//Squarespace Inc/Squarespace 6//v6//EN
BEGIN:VEVENT
UID:5da5cf82a17f0050ab02e1e2@squarespace.com
DTSTAMP:20191111T030431Z
DTSTART:20191125T220000Z
DTEND:20191126T040000Z
SUMMARY:Stage 2 Excursion to The Royal National Park Environmental Educatio
 n Centre
GEO:-34.064181;151.057563
LOCATION:Excursion to The Royal National Park Environmental Education Centr
 e
END:VEVENT
END:VCALENDAR
