BEGIN:VCALENDAR
VERSION:2.0
PRODID:-//Squarespace Inc/Squarespace 6//v6//EN
BEGIN:VEVENT
UID:5d8cb19f3e73ce4ee3240e37@squarespace.com
DTSTAMP:20190926T130338Z
DTSTART:20191118T220000Z
DTEND:20191119T040000Z
SUMMARY:Early Stage 1 &amp\; Stage 1 Excursion to Calmsley Hill City Farm
GEO:-33.870081;150.86131
LOCATION:Calmsley Hill City Farm\, 31 Darling Street\, Abbotsbury\, NSW\, 2
 176\, Australia
END:VEVENT
END:VCALENDAR
