BEGIN:VCALENDAR
VERSION:2.0
PRODID:-//Squarespace Inc/Squarespace 6//v6//EN
BEGIN:VEVENT
UID:5d8caf229238be297a034e12@squarespace.com
DTSTAMP:20190926T123659Z
DTSTART:20191121T233000Z
DTEND:20191122T010000Z
SUMMARY:Early Stage 1 &amp\; Stage 1 Incursion - Responsible Pet ED
END:VEVENT
END:VCALENDAR
