BEGIN:VCALENDAR
VERSION:2.0
PRODID:-//Squarespace Inc/Squarespace 6//v6//EN
BEGIN:VEVENT
UID:5da42307426f3c10eb0325ac@squarespace.com
DTSTAMP:20191015T135740Z
DTSTART:20191104T220000Z
DTEND:20191105T040000Z
SUMMARY:Stage 3 Excursion to The Royal National Park Environmental Educatio
 n Centre
GEO:-34.064181;151.057563
LOCATION:Excursion to The Royal National Park Environmental Education Centr
 e
END:VEVENT
END:VCALENDAR
