BEGIN:VCALENDAR
VERSION:2.0
PRODID:-//Squarespace Inc/Squarespace 6//v6//EN
BEGIN:VEVENT
UID:5c6296d3eb39310b148b72b2@squarespace.com
DTSTAMP:20191111T030523Z
DTSTART:20191115T000000Z
DTEND:20191115T010000Z
SUMMARY:Year 7 Vaccinations
END:VEVENT
END:VCALENDAR
