BEGIN:VCALENDAR
VERSION:2.0
PRODID:-//Squarespace Inc/Squarespace 6//v6//EN
BEGIN:VEVENT
UID:5de8761f84458a54c2c213ac@squarespace.com
DTSTAMP:20191205T033401Z
DTSTART:20191210T232000Z
DTEND:20191211T032000Z
SUMMARY:High School Christmas Party
GEO:-33.768661;150.940759
LOCATION:Lilys\, 5 Quinn Avenue\, Seven Hills\, NSW\, 2147\, Australia
END:VEVENT
END:VCALENDAR
