BEGIN:VCALENDAR
VERSION:2.0
PRODID:-//Squarespace Inc/Squarespace 6//v6//EN
BEGIN:VEVENT
UID:5c1b6f2f03ce64ff5ffb59ad@squarespace.com
DTSTAMP:20191124T125646Z
DTSTART:20191210T214500Z
DTEND:20191211T040000Z
SUMMARY:Mufti Fun Day
END:VEVENT
END:VCALENDAR
