BEGIN:VCALENDAR
VERSION:2.0
PRODID:-//Squarespace Inc/Squarespace 6//v6//EN
BEGIN:VEVENT
UID:5c1b6dbf21c67cd7830b403f@squarespace.com
DTSTAMP:20191128T040612Z
DTSTART:20191212T080000Z
DTEND:20191212T103000Z
SUMMARY:Presentation &amp\; Awards Night 2019
GEO:-33.771648;150.909175
LOCATION:Bowman Hall\, 35 Campbell Street\, Blacktown\, NSW\, 2148\, Austra
 lia
END:VEVENT
END:VCALENDAR
