BEGIN:VCALENDAR
VERSION:2.0
PRODID:-//Squarespace Inc/Squarespace 6//v6//EN
BEGIN:VEVENT
UID:5da41f64fe2f655194b59267@squarespace.com
DTSTAMP:20191204T122637Z
DTSTART:20191212T214500Z
DTEND:20191213T030000Z
SUMMARY:Student Free Day
END:VEVENT
END:VCALENDAR
